{"text_format":"1","workbook":"xlsx","n_sheets":3,"sheets":["DADESAL","INFORME","CALCAL"],"not_rendered":{"charts":0,"images":6,"macros":1,"external_links":0,"defined_names":0,"comments":0,"pivot_tables":0},"unopened":[],"bounds":{"document_bytes":16777216,"sheet_cells":100000,"rows_first":2000,"rows_last":500,"rows_between":2000,"halvings":0,"cell_chars":16384,"cell_head_chars":4096},"cells_cut":0,"cells_raw":0,"read":"whole","date_system":"1900"}

{"sheet":"DADESAL","index":0,"n_rows":18,"n_cols":5,"rows_kept":18,"cut":false,"hidden":false,"merged":[]}
[]
[]
[]
[]
[]
[]
[]
[]
[null,null,null,null,6]
[]
[]
[null,null,null,null,700]
[]
[]
[null,null,null,null,2]
[]
[]
[null,null,null,null,5]

{"sheet":"INFORME","index":1,"n_rows":28,"n_cols":10,"rows_kept":28,"cut":false,"hidden":false,"merged":[]}
[]
[]
[]
[]
[null,null,null,"Ample de treball:",{"$f":"CALCAL!B5","v":6},"  m"]
[null,null,null,"Densitat:",{"$f":"CALCAL!B2","v":0.7},"  Tn/m3"]
[null,null,null,"Velocitat cinta:",{"$f":"CALCAL!B3","v":2},"  m/s"]
[null,null,null,"Ample caixa:",{"$f":"CALCAL!B4","v":5},"  m"]
[]
[]
[null,"Exemple:",null,null,null,null,null,null,{"$f":"\"si l'obertura de la porta del darrere és de 0,8 m i la velocitat és de 3,5 km/h la dosi aplicada serà de \"&INT(G21)&\" tones hectàrea\"","v":"si l'obertura de la porta del darrere és de 0,8 m i la velocitat és de 3,5 km/h la dosi aplicada serà de 160 tones hectàrea"}]
[]
[]
[]
[null,null,null,0.2,0.4,0.6,0.8,1,1.2,1.4]
[null,null,1,{"$f":"CALCAL!B11","v":140.00000000000003},{"$f":"CALCAL!C11","v":280.00000000000006},{"$f":"CALCAL!D11","v":420},{"$f":"CALCAL!E11","v":560.00000000000011},{"$f":"CALCAL!F11","v":700},{"$f":"CALCAL!G11","v":840},{"$f":"CALCAL!H11","v":979.99999999999989}]
[null,null,1.5,{"$f":"CALCAL!B12","v":93.333333333333343},{"$f":"CALCAL!C12","v":186.66666666666669},{"$f":"CALCAL!D12","v":280},{"$f":"CALCAL!E12","v":373.33333333333337},{"$f":"CALCAL!F12","v":466.66666666666669},{"$f":"CALCAL!G12","v":560},{"$f":"CALCAL!H12","v":653.33333333333326}]
[null,null,2,{"$f":"CALCAL!B13","v":70.000000000000014},{"$f":"CALCAL!C13","v":140.00000000000003},{"$f":"CALCAL!D13","v":210},{"$f":"CALCAL!E13","v":280.00000000000006},{"$f":"CALCAL!F13","v":350},{"$f":"CALCAL!G13","v":420},{"$f":"CALCAL!H13","v":489.99999999999994}]
[null,null,2.5,{"$f":"CALCAL!B14","v":56.000000000000007},{"$f":"CALCAL!C14","v":112.00000000000001},{"$f":"CALCAL!D14","v":168},{"$f":"CALCAL!E14","v":224.00000000000003},{"$f":"CALCAL!F14","v":280},{"$f":"CALCAL!G14","v":336},{"$f":"CALCAL!H14","v":391.99999999999994}]
[null,null,3,{"$f":"CALCAL!B15","v":46.666666666666671},{"$f":"CALCAL!C15","v":93.333333333333343},{"$f":"CALCAL!D15","v":140},{"$f":"CALCAL!E15","v":186.66666666666669},{"$f":"CALCAL!F15","v":233.33333333333334},{"$f":"CALCAL!G15","v":280},{"$f":"CALCAL!H15","v":326.66666666666663}]
[null,null,3.5,{"$f":"CALCAL!B16","v":40.000000000000007},{"$f":"CALCAL!C16","v":80.000000000000014},{"$f":"CALCAL!D16","v":120},{"$f":"CALCAL!E16","v":160.00000000000003},{"$f":"CALCAL!F16","v":200},{"$f":"CALCAL!G16","v":240},{"$f":"CALCAL!H16","v":279.99999999999994}]
[null,null,4,{"$f":"CALCAL!B17","v":35.000000000000007},{"$f":"CALCAL!C17","v":70.000000000000014},{"$f":"CALCAL!D17","v":105},{"$f":"CALCAL!E17","v":140.00000000000003},{"$f":"CALCAL!F17","v":175},{"$f":"CALCAL!G17","v":210},{"$f":"CALCAL!H17","v":244.99999999999997}]
[null,null,4.5,{"$f":"CALCAL!B18","v":31.111111111111114},{"$f":"CALCAL!C18","v":62.222222222222229},{"$f":"CALCAL!D18","v":93.333333333333329},{"$f":"CALCAL!E18","v":124.44444444444446},{"$f":"CALCAL!F18","v":155.55555555555554},{"$f":"CALCAL!G18","v":186.66666666666666},{"$f":"CALCAL!H18","v":217.77777777777774}]
[null,null,5,{"$f":"CALCAL!B19","v":28.000000000000004},{"$f":"CALCAL!C19","v":56.000000000000007},{"$f":"CALCAL!D19","v":84},{"$f":"CALCAL!E19","v":112.00000000000001},{"$f":"CALCAL!F19","v":140},{"$f":"CALCAL!G19","v":168},{"$f":"CALCAL!H19","v":195.99999999999997}]
[null,null,5.5,{"$f":"CALCAL!B20","v":25.454545454545457},{"$f":"CALCAL!C20","v":50.909090909090914},{"$f":"CALCAL!D20","v":76.36363636363636},{"$f":"CALCAL!E20","v":101.81818181818183},{"$f":"CALCAL!F20","v":127.27272727272727},{"$f":"CALCAL!G20","v":152.72727272727272},{"$f":"CALCAL!H20","v":178.18181818181816}]
[null,null,6,{"$f":"CALCAL!B21","v":23.333333333333336},{"$f":"CALCAL!C21","v":46.666666666666671},{"$f":"CALCAL!D21","v":70},{"$f":"CALCAL!E21","v":93.333333333333343},{"$f":"CALCAL!F21","v":116.66666666666667},{"$f":"CALCAL!G21","v":140},{"$f":"CALCAL!H21","v":163.33333333333331}]
[null,null,6.5,{"$f":"CALCAL!B22","v":21.53846153846154},{"$f":"CALCAL!C22","v":43.07692307692308},{"$f":"CALCAL!D22","v":64.615384615384613},{"$f":"CALCAL!E22","v":86.15384615384616},{"$f":"CALCAL!F22","v":107.69230769230769},{"$f":"CALCAL!G22","v":129.23076923076923},{"$f":"CALCAL!H22","v":150.76923076923075}]
[null,null,7,{"$f":"CALCAL!B23","v":20.000000000000004},{"$f":"CALCAL!C23","v":40.000000000000007},{"$f":"CALCAL!D23","v":60},{"$f":"CALCAL!E23","v":80.000000000000014},{"$f":"CALCAL!F23","v":100},{"$f":"CALCAL!G23","v":120},{"$f":"CALCAL!H23","v":139.99999999999997}]

{"sheet":"CALCAL","index":2,"n_rows":23,"n_cols":8,"rows_kept":23,"cut":false,"hidden":true,"merged":[]}
[]
["Densitat",{"$f":"DADESAL!E12/1000","v":0.7},"Tn/m3",null,null,"AC","Ample caixa"]
["Vcinta (0,5-5)",{"$f":"DADESAL!E15","v":2},"m/s",null,null,"AT","Ample treball"]
["Ampcai",{"$f":"DADESAL!E18","v":5},"m"]
["Ample treball",{"$f":"DADESAL!E9","v":6},"m"]
[]
[null,null,null,"ALTURA PORTA"]
[]
["DOSIFICACIÓ (m3/ha)",0.2,0.4,0.6,0.8,1,1.2,1.4]
["Velocitat"]
[1,{"$f":"($B$2*$B$3*$B$4*B$9*600)/($B$5*$A11)","v":140.00000000000003},{"$f":"($B$2*$B$3*$B$4*C$9*600)/($B$5*$A11)","v":280.00000000000006},{"$f":"($B$2*$B$3*$B$4*D$9*600)/($B$5*$A11)","v":420},560.00000000000011,700,{"$f":"($B$2*$B$3*$B$4*G$9*600)/($B$5*$A11)","v":840},979.99999999999989]
[1.5,{"$f":"($B$2*$B$3*$B$4*B$9*600)/($B$5*$A12)","v":93.333333333333343},{"$f":"($B$2*$B$3*$B$4*C$9*600)/($B$5*$A12)","v":186.66666666666669},280,373.33333333333337,466.66666666666669,560,653.33333333333326]
[2,{"$f":"($B$2*$B$3*$B$4*B$9*600)/($B$5*$A13)","v":70.000000000000014},140.00000000000003,210,280.00000000000006,350,420,489.99999999999994]
[2.5,{"$f":"($B$2*$B$3*$B$4*B$9*600)/($B$5*$A14)","v":56.000000000000007},112.00000000000001,168,224.00000000000003,280,336,391.99999999999994]
[3,46.666666666666671,{"$f":"($B$2*$B$3*$B$4*C$9*600)/($B$5*$A15)","v":93.333333333333343},140,186.66666666666669,233.33333333333334,280,326.66666666666663]
[3.5,40.000000000000007,80.000000000000014,120,160.00000000000003,200,240,279.99999999999994]
[4,35.000000000000007,70.000000000000014,105,140.00000000000003,175,210,244.99999999999997]
[4.5,31.111111111111114,62.222222222222229,93.333333333333329,{"$f":"($B$2*$B$3*$B$4*E$9*600)/($B$5*$A18)","v":124.44444444444446},155.55555555555554,186.66666666666666,217.77777777777774]
[5,28.000000000000004,56.000000000000007,84,112.00000000000001,140,168,195.99999999999997]
[5.5,25.454545454545457,50.909090909090914,76.36363636363636,101.81818181818183,127.27272727272727,152.72727272727272,178.18181818181816]
[6,23.333333333333336,46.666666666666671,{"$f":"($B$2*$B$3*$B$4*D$9*600)/($B$5*$A21)","v":70},93.333333333333343,116.66666666666667,140,163.33333333333331]
[6.5,21.53846153846154,43.07692307692308,{"$f":"($B$2*$B$3*$B$4*D$9*600)/($B$5*$A22)","v":64.615384615384613},86.15384615384616,107.69230769230769,129.23076923076923,150.76923076923075]
[7,20.000000000000004,40.000000000000007,60,80.000000000000014,100,120,139.99999999999997]