{"text_format":"1","workbook":"xlsx","n_sheets":5,"sheets":["Característiques del tractor","Proves de treball","TAULA DE TREBALL (1)","TAULA DE TREBALL (2)","Full1"],"not_rendered":{"charts":0,"images":5,"macros":1,"external_links":0,"defined_names":2,"comments":0,"pivot_tables":0},"unopened":[],"bounds":{"document_bytes":16777216,"sheet_cells":100000,"rows_first":2000,"rows_last":500,"rows_between":2000,"halvings":0,"cell_chars":16384,"cell_head_chars":4096},"cells_cut":0,"cells_raw":0,"read":"whole","date_system":"1900"}

{"sheet":"Característiques del tractor","index":0,"n_rows":13,"n_cols":4,"rows_kept":13,"cut":false,"hidden":false,"merged":[[9,0,29,0],[8,1,8,20],[13,1,29,20],[9,4,12,20],[0,0,0,20],[2,0,2,20],[3,2,3,20],[3,0,3,1],[1,0,1,20],[4,0,7,20]]}
[]
["Característiques de l'aplicador"]
[]
["Primer pas: s'han d'emplenar els camps en blanc:"]
[]
[]
[]
[]
["CISTERNA DE PURÍ:"]
[null,"Volum de la bota1:",17,"m3"]
[null,"Volum real de la bota2:",16.5,"m3"]
[null,"Amplada de distribució3:",6,"m"]
[null,null,{"$f":"+C12","v":6}]

{"sheet":"Proves de treball","index":1,"n_rows":12,"n_cols":3,"rows_kept":12,"cut":false,"hidden":false,"merged":[[1,0,1,18],[2,0,2,2],[3,0,3,18],[2,3,2,18],[0,0,0,18],[12,0,28,18],[8,0,8,2],[5,0,6,2],[4,3,11,18],[7,1,7,2],[4,1,4,2]]}
[]
["Proves de treball"]
["S'han d'emplenar els camps en blanc:"]
[]
["Dia de la prova","2021-10-10"]
[]
[]
["Promig proves:"]
[]
["Volum real cuba",{"$f":"+'Característiques del tractor'!C11","v":16.5},"m3"]
["Amplada de treball",{"$f":"+'Característiques del tractor'!C13","v":6},"m"]
["Temps mig:",{"$f":"6*60","v":360},"segons"]

{"sheet":"TAULA DE TREBALL (1)","index":2,"n_rows":19,"n_cols":18,"rows_kept":19,"cut":false,"hidden":false,"merged":[[8,1,8,17],[8,0,9,0],[1,0,1,19],[19,0,29,19],[0,0,0,19]]}
[]
["         Taula completa de velocitat d'aplicació (km/h)  -segons dosi i concentració de nitrogen del purí-"]
[]
["Volum cuba",null,{"$f":"+'Proves de treball'!B10","v":16.5},"m3"]
["Temps d'aplicació",null,{"$f":"+'Proves de treball'!B12","v":360},"segons"]
["Distància entre passades",null,{"$f":"+'Proves de treball'!B11","v":6},"m"]
[]
[]
["concentració N (kg/m3)","Dosi (kg/ha)"]
[null,50,60,70,80,90,100,110,120,130,140,150,160,170,180,190,200,210]
[2,{"$f":"$C$4*$A11*36000/($C$5*$C$6*B10)","v":11},{"$f":"$C$4*$A11*36000/($C$5*$C$6*C10)","v":9.1666666666666661},{"$f":"$C$4*$A11*36000/($C$5*$C$6*D10)","v":7.8571428571428568},6.875,6.1111111111111107,5.5,5,4.583333333333333,4.2307692307692308,3.9285714285714284,3.6666666666666665,3.4375,3.2352941176470589,3.0555555555555554,2.8947368421052633,2.75,2.6190476190476191]
[3,{"$f":"$C$4*$A12*36000/($C$5*$C$6*B10)","v":16.5},13.75,11.785714285714286,10.3125,9.1666666666666661,8.25,7.5,6.875,6.3461538461538458,5.8928571428571432,5.5,5.15625,4.8529411764705879,4.583333333333333,4.3421052631578947,4.125,3.9285714285714284]
[4,{"$f":"$C$4*$A13*36000/($C$5*$C$6*B10)","v":22},18.333333333333332,15.714285714285714,13.75,12.222222222222221,11,10,9.1666666666666661,8.4615384615384617,7.8571428571428568,7.333333333333333,6.875,6.4705882352941178,6.1111111111111107,5.7894736842105265,5.5,5.2380952380952381]
[5,{"$f":"$C$4*$A14*36000/($C$5*$C$6*B10)","v":27.5},22.916666666666668,19.642857142857142,17.1875,15.277777777777779,13.75,12.5,11.458333333333334,10.576923076923077,9.8214285714285712,9.1666666666666661,8.59375,8.0882352941176467,7.6388888888888893,7.2368421052631575,6.875,6.5476190476190474]
[6,{"$f":"$C$4*$A15*36000/($C$5*$C$6*B10)","v":33},27.5,23.571428571428573,20.625,18.333333333333332,16.5,15,13.75,12.692307692307692,11.785714285714286,11,10.3125,9.7058823529411757,9.1666666666666661,8.6842105263157894,8.25,7.8571428571428568]
[7,{"$f":"$C$4*$A16*36000/($C$5*$C$6*B10)","v":38.5},32.083333333333336,27.5,24.0625,21.388888888888889,19.25,17.5,16.041666666666668,14.807692307692308,13.75,12.833333333333334,12.03125,11.323529411764707,10.694444444444445,10.131578947368421,9.625,9.1666666666666661]
[8,{"$f":"$C$4*$A17*36000/($C$5*$C$6*B10)","v":44},36.666666666666664,31.428571428571427,27.5,24.444444444444443,22,20,18.333333333333332,16.923076923076923,15.714285714285714,14.666666666666666,13.75,12.941176470588236,12.222222222222221,11.578947368421053,11,10.476190476190476]
[9,{"$f":"$C$4*$A18*36000/($C$5*$C$6*B10)","v":49.5},41.25,35.357142857142854,30.9375,27.5,24.75,22.5,20.625,19.03846153846154,17.678571428571427,16.5,15.46875,14.558823529411764,13.75,13.026315789473685,12.375,11.785714285714286]
[10,{"$f":"$C$4*$A19*36000/($C$5*$C$6*B10)","v":55},45.833333333333336,39.285714285714285,34.375,30.555555555555557,27.5,25,22.916666666666668,21.153846153846153,19.642857142857142,18.333333333333332,17.1875,16.176470588235293,15.277777777777779,14.473684210526315,13.75,13.095238095238095]

{"sheet":"TAULA DE TREBALL (2)","index":3,"n_rows":21,"n_cols":13,"rows_kept":21,"cut":false,"hidden":false,"merged":[[20,1,20,12],[8,1,8,12],[8,0,9,0],[1,0,1,13],[0,0,0,17]]}
[]
["   Taula parcial de velocitat d'aplicació (km/h)  -segons dosi i concentració de nitrogen del purí         "]
[]
["Volum cuba",null,{"$f":"+'Proves de treball'!B10","v":16.5},"m3"]
["Temps d'aplicació",null,{"$f":"+'Proves de treball'!B12","v":360},"segons"]
["Distància entre passades",null,{"$f":"+'Proves de treball'!B11","v":6},"m"]
["Potència de treball",null,{"$f":"+'Proves de treball'!#REF!","v":{"$error":"#REF!"}},"rpm"]
[]
["concentració N (kg/m3)","Dosi (kg/ha)"]
[null,50,60,70,80,90,100,110,130,150,170,190,210]
[2,{"$f":"$C$4*$A11*36000/($C$5*$C$6*B10)","v":11},9.1666666666666661,7.8571428571428568,6.875,6.1111111111111107,5.5,5,4.2307692307692308,3.6666666666666665,3.2352941176470589,2.8947368421052633,2.6190476190476191]
[3,{"$f":"$C$4*$A12*36000/($C$5*$C$6*B10)","v":16.5},13.75,11.785714285714286,10.3125,9.1666666666666661,8.25,7.5,6.3461538461538458,5.5,4.8529411764705879,4.3421052631578947,3.9285714285714284]
[4,{"$f":"$C$4*$A13*36000/($C$5*$C$6*B10)","v":22},18.333333333333332,15.714285714285714,13.75,12.222222222222221,11,10,8.4615384615384617,7.333333333333333,6.4705882352941178,5.7894736842105265,5.2380952380952381]
[5,{"$f":"$C$4*$A14*36000/($C$5*$C$6*B10)","v":27.5},22.916666666666668,19.642857142857142,17.1875,15.277777777777779,13.75,12.5,10.576923076923077,9.1666666666666661,8.0882352941176467,7.2368421052631575,6.5476190476190474]
[6,{"$f":"$C$4*$A15*36000/($C$5*$C$6*B10)","v":33},27.5,23.571428571428573,20.625,18.333333333333332,16.5,15,12.692307692307692,11,9.7058823529411757,8.6842105263157894,7.8571428571428568]
[7,{"$f":"$C$4*$A16*36000/($C$5*$C$6*B10)","v":38.5},32.083333333333336,27.5,24.0625,21.388888888888889,19.25,17.5,14.807692307692308,12.833333333333334,11.323529411764707,10.131578947368421,9.1666666666666661]
[8,{"$f":"$C$4*$A17*36000/($C$5*$C$6*B10)","v":44},36.666666666666664,31.428571428571427,27.5,24.444444444444443,22,20,16.923076923076923,14.666666666666666,12.941176470588236,11.578947368421053,10.476190476190476]
[9,{"$f":"$C$4*$A18*36000/($C$5*$C$6*B10)","v":49.5},41.25,35.357142857142854,30.9375,27.5,24.75,22.5,19.03846153846154,16.5,14.558823529411764,13.026315789473685,11.785714285714286]
[10,{"$f":"$C$4*$A19*36000/($C$5*$C$6*B10)","v":55},45.833333333333336,39.285714285714285,34.375,30.555555555555557,27.5,25,21.153846153846153,18.333333333333332,16.176470588235293,14.473684210526315,13.095238095238095]
[]
[null,"S'autoritza la utilització del contingut d'aquest estudi amb l'obligació de fer constar la font / se autoriza la utilitzación del contenido de este estudio con la  obligación de hacer constar la fuente:\nGeneralitat de Catalunya - Departament d'Agricultura, Ramaderia, Pesca, Alimentació i Medi Natural - 02/04/2025\n"]

{"sheet":"Full1","index":4,"n_rows":0,"n_cols":0,"rows_kept":0,"cut":false,"hidden":true,"merged":[]}